BEGIN:VCALENDAR
VERSION:2.0
PRODID:-//Proloco Ardenno APS - ECPv6.15.20//NONSGML v1.0//EN
CALSCALE:GREGORIAN
METHOD:PUBLISH
X-ORIGINAL-URL:https://prolocoardennoaps.it
X-WR-CALDESC:Eventi per Proloco Ardenno APS
REFRESH-INTERVAL;VALUE=DURATION:PT1H
X-Robots-Tag:noindex
X-PUBLISHED-TTL:PT1H
BEGIN:VTIMEZONE
TZID:Europe/Rome
BEGIN:DAYLIGHT
TZOFFSETFROM:+0100
TZOFFSETTO:+0200
TZNAME:CEST
DTSTART:20240331T010000
END:DAYLIGHT
BEGIN:STANDARD
TZOFFSETFROM:+0200
TZOFFSETTO:+0100
TZNAME:CET
DTSTART:20241027T010000
END:STANDARD
BEGIN:DAYLIGHT
TZOFFSETFROM:+0100
TZOFFSETTO:+0200
TZNAME:CEST
DTSTART:20250330T010000
END:DAYLIGHT
BEGIN:STANDARD
TZOFFSETFROM:+0200
TZOFFSETTO:+0100
TZNAME:CET
DTSTART:20251026T010000
END:STANDARD
BEGIN:DAYLIGHT
TZOFFSETFROM:+0100
TZOFFSETTO:+0200
TZNAME:CEST
DTSTART:20260329T010000
END:DAYLIGHT
BEGIN:STANDARD
TZOFFSETFROM:+0200
TZOFFSETTO:+0100
TZNAME:CET
DTSTART:20261025T010000
END:STANDARD
END:VTIMEZONE
BEGIN:VEVENT
DTSTART;TZID=Europe/Rome:20251130T093000
DTEND;TZID=Europe/Rome:20251130T173000
DTSTAMP:20260423T024757
CREATED:20250930T132004Z
LAST-MODIFIED:20251001T094940Z
UID:10000046-1764495000-1764523800@prolocoardennoaps.it
SUMMARY:ARDENNO IN FESTA (iscrizione hobbisti)
DESCRIPTION:Il Natale si avvicina!  \nSei un hobbista e cerchi una vetrina speciale per le tue creazioni?\nUnisciti a noi ai MERCATINI DI NATALE di Ardenno\, nell’ambito della manifestazione “ARDENNO IN FESTA” del 30 novembre 2025!\nSarà l’occasione perfetta per esporre i tuoi lavori artigianali e respirare la magia delle feste.\nIscrizioni: compilare richiesta di adesione allegata e restituirla\, debitamente sottoscritta\, tramite mail a        info@prolocoardennoaps.it\noppure con consegna a mano presso Parrucchiera “Le Chic” – Via Merlina 3 – Ardenno (So)\nInfo:       info@prolocoardennoaps.it      cell. 3467165256 (Marilyn)\, 3520270886 (Daniele)\nTI ASPETTIAMO!!!\n  \nDISCIPLINARE ARDENNO IN FESTA 2025 \nAllegato A) Richiesta adesione 2025
URL:https://prolocoardennoaps.it/event/ardenno-in-festa-iscrizione-hobbisti/
LOCATION:Piazza Roma – Ardenno\, Piazza Roma\, Ardenno\, SO\, 23011\, Italia
END:VEVENT
BEGIN:VEVENT
DTSTART;TZID=Europe/Rome:20251130T093000
DTEND;TZID=Europe/Rome:20251130T173000
DTSTAMP:20260423T024758
CREATED:20250922T123623Z
LAST-MODIFIED:20251114T122206Z
UID:10000039-1764495000-1764523800@prolocoardennoaps.it
SUMMARY:ARDENNO IN FESTA
DESCRIPTION:🎅 Mercatini di Natale: Passeggia tra le bancarelle illuminate\, scopri regali unici e artigianato locale. Troverai sicuramente il dono perfetto per i tuoi cari! \n✉️ La Segretaria di Babbo Natale: I bambini potranno consegnare le loro letterine direttamente alla segretaria di Babbo Natale. Non dimenticate di esprimere i vostri desideri! \n🎶 Musica e Spettacoli: Lasciati coinvolgere dalle note natalizie con esibizioni dal vivo e tanta buona musica che scalderà l’atmosfera. \n☕🍰 Merenda in Compagnia: Non mancheranno deliziose merende per tutti i gusti\, per una dolce pausa in compagnia di amici e famiglia. \n📍 Dove: Piazza Roma – ARDENNO (So)      🗓️ Quando: 30 novembre 2025     ⏰ Orario: 9.30 – 17.30 \n  \nLa magia del Natale ti aspetta!!!
URL:https://prolocoardennoaps.it/event/ardenno-in-festa-mercatini-di-natale2025/
LOCATION:Piazza Roma – Ardenno\, Piazza Roma\, Ardenno\, SO\, 23011\, Italia
END:VEVENT
BEGIN:VEVENT
DTSTART;VALUE=DATE:20251116
DTEND;VALUE=DATE:20251118
DTSTAMP:20260423T024758
CREATED:20250923T101452Z
LAST-MODIFIED:20251112T131856Z
UID:10000043-1763251200-1763423999@prolocoardennoaps.it
SUMMARY:FIERA DI ARDENNO
DESCRIPTION:
URL:https://prolocoardennoaps.it/event/fiera-di-ardenno-2025/
END:VEVENT
END:VCALENDAR